BEGIN:VCALENDAR
VERSION:2.0
PRODID:-//DP Pro Event Calendar//3.0.5//EN
BEGIN:VEVENT
UID:567460f8-6af8-4e53-8eae-5fc34c6be84b
DTSTART;TZID=America/Chicago:20251123T140000
DTEND;TZID=America/Chicago:20251123T153000
DTSTAMP:20251117T150809Z
SUMMARY:Miranda Brethouwoer Birthday
DESCRIPTION:Basic Party\r \n Party Room 3:30-4:30p
LOCATION:
URL:
END:VEVENT
END:VCALENDAR