BEGIN:VCALENDAR
VERSION:2.0
PRODID:-//DP Pro Event Calendar//3.0.5//EN
BEGIN:VEVENT
UID:278883a7-86c7-43b2-b5a9-5bf33daddcac
DTSTART;TZID=America/Chicago:20251121T193000
DTEND;TZID=America/Chicago:20251121T203000
DTSTAMP:20251118T122122Z
SUMMARY:Brielle Birge Birthday -  Party Room
DESCRIPTION:
LOCATION:
URL:
END:VEVENT
END:VCALENDAR