BEGIN:VCALENDAR
VERSION:2.0
PRODID:-//DP Pro Event Calendar//3.0.5//EN
BEGIN:VEVENT
UID:c84d5ce6-c6eb-4479-83ef-fe7dd2a386e7
DTSTART;TZID=America/Chicago:20250724T100000
DTEND;TZID=America/Chicago:20250724T113000
DTSTAMP:20250429T145155Z
SUMMARY:Bluejay Summer Kids Camp
DESCRIPTION:45 skaters
LOCATION:
URL:
END:VEVENT
END:VCALENDAR