BEGIN:VCALENDAR
VERSION:2.0
PRODID:-//DP Pro Event Calendar//3.0.5//EN
BEGIN:VEVENT
UID:1c303c14-f669-47d0-be49-619e83555726
DTSTART;TZID=America/Chicago:20250717T130000
DTEND;TZID=America/Chicago:20250717T150000
DTSTAMP:20250203T171353Z
SUMMARY:Ralston Little Rams - Outing
DESCRIPTION:
LOCATION:
URL:
END:VEVENT
END:VCALENDAR