BEGIN:VCALENDAR
VERSION:2.0
PRODID:-//DP Pro Event Calendar//3.0.5//EN
BEGIN:VEVENT
UID:1df43dc0-b890-41ab-a109-889c47082f24
DTSTART;TZID=America/Chicago:20250405T124500
DTEND;TZID=America/Chicago:20250405T141500
DTSTAMP:20250324T105726Z
SUMMARY:Natalie Denio Birthday
DESCRIPTION:Standard Party\r \n Party Room 2:15-3:15p
LOCATION:
URL:
END:VEVENT
END:VCALENDAR