BEGIN:VCALENDAR
VERSION:2.0
PRODID:-//DP Pro Event Calendar//3.0.5//EN
BEGIN:VEVENT
UID:862fe718-e026-4421-ba95-4be5dd0af8f9
DTSTART;TZID=America/Chicago:20250309T140000
DTEND;TZID=America/Chicago:20250309T153000
DTSTAMP:20250210T180419Z
SUMMARY:Menjivar Birthday
DESCRIPTION:Basic Party\r \n Party Room 1-2
LOCATION:
URL:
END:VEVENT
END:VCALENDAR