BEGIN:VCALENDAR
VERSION:2.0
PRODID:-//DP Pro Event Calendar//3.0.5//EN
BEGIN:VEVENT
UID:20b78d79-d28c-446b-b42a-6c8ce117de97
DTSTART;TZID=America/Chicago:20250216T140000
DTEND;TZID=America/Chicago:20250216T153000
DTSTAMP:20250113T174313Z
SUMMARY:Ella Staab Bithday
DESCRIPTION:Basic Party\r \n Party Room 3-4
LOCATION:
URL:
END:VEVENT
END:VCALENDAR