BEGIN:VCALENDAR
VERSION:2.0
PRODID:-//DP Pro Event Calendar//3.0.5//EN
BEGIN:VEVENT
UID:0388b05a-4839-4d1c-981a-a87f92284186
DTSTART;TZID=America/Chicago:20250209T140000
DTEND;TZID=America/Chicago:20250209T153000
DTSTAMP:20250113T174208Z
SUMMARY:Saoirse O-Malley Birthday
DESCRIPTION:Basic Party\r \n Party Room 3:30-4:30p
LOCATION:
URL:
END:VEVENT
END:VCALENDAR