BEGIN:VCALENDAR
VERSION:2.0
PRODID:-//DP Pro Event Calendar//3.0.5//EN
BEGIN:VEVENT
UID:ddcb45b3-32f1-4c37-9c21-57bd9302d016
DTSTART;TZID=America/Chicago:20250120T120000
DTEND;TZID=America/Chicago:20250120T150000
DTSTAMP:20241230T171918Z
SUMMARY:Lutheran Church of the Master Outing
DESCRIPTION:Party Room 12-1 Skate 1-3p\r \n 15-20 Kids - Basic Party
LOCATION:
URL:
END:VEVENT
END:VCALENDAR