BEGIN:VCALENDAR
VERSION:2.0
PRODID:-//DP Pro Event Calendar//3.0.5//EN
BEGIN:VEVENT
UID:309f359d-cf5b-460b-bb69-d828880994f7
DTSTART;TZID=America/Chicago:20250117T130000
DTEND;TZID=America/Chicago:20250117T150000
DTSTAMP:20241122T170759Z
SUMMARY:Regina Caeli Academy Outing
DESCRIPTION:Diane Anderson 4024904957\r \n 75 skaters
LOCATION:
URL:
END:VEVENT
END:VCALENDAR