BEGIN:VCALENDAR
VERSION:2.0
PRODID:-//DP Pro Event Calendar//3.0.5//EN
BEGIN:VEVENT
UID:03afcf65-b8ef-44d3-89c5-eaf1d7077c39
DTSTART;TZID=America/Chicago:20250104T124500
DTEND;TZID=America/Chicago:20250104T141500
DTSTAMP:20241119T164046Z
SUMMARY:Elliot Nastase Bithday
DESCRIPTION:Basic Party\r \n Party Room 2:15-3:15p
LOCATION:
URL:
END:VEVENT
END:VCALENDAR