BEGIN:VCALENDAR
VERSION:2.0
PRODID:-//DP Pro Event Calendar//3.0.5//EN
BEGIN:VEVENT
UID:e9bad447-dcf5-4a00-aa3c-c2419d7b584a
DTSTART;TZID=America/Chicago:20241231T081500
DTEND;TZID=America/Chicago:20241231T091500
DTSTAMP:20241219T174413Z
SUMMARY:DeRouchey Hockey
DESCRIPTION:
LOCATION:
URL:
END:VEVENT
END:VCALENDAR