BEGIN:VCALENDAR
VERSION:2.0
PRODID:-//DP Pro Event Calendar//3.0.5//EN
BEGIN:VEVENT
UID:4be4f935-0a7d-4ec9-8272-4478eb431aed
DTSTART;TZID=America/Chicago:20241229T180000
DTEND;TZID=America/Chicago:20241229T190000
DTSTAMP:20241129T144510Z
SUMMARY:Cub Scouts - Pack 448 VIP Outing
DESCRIPTION:Room 5-6p\r \n Ice 6-7p\r \n 75 skates
LOCATION:
URL:
END:VEVENT
END:VCALENDAR