BEGIN:VCALENDAR
VERSION:2.0
PRODID:-//DP Pro Event Calendar//3.0.5//EN
BEGIN:VEVENT
UID:e7b4a46f-bc3d-49d1-b726-ff6e9caaee99
DTSTART;TZID=America/Chicago:20241220T180000
DTEND;TZID=America/Chicago:20241220T193000
DTSTAMP:20241125T160816Z
SUMMARY:Carlie Minturn Birthday
DESCRIPTION:Basic Party\r \n Party Room 7:30-8:30p
LOCATION:
URL:
END:VEVENT
END:VCALENDAR