BEGIN:VCALENDAR
VERSION:2.0
PRODID:-//DP Pro Event Calendar//3.0.5//EN
BEGIN:VEVENT
UID:a44bdbf8-2472-47d4-bfdb-c9c838e3d171
DTSTART;TZID=America/Chicago:20241216T170000
DTEND;TZID=America/Chicago:20241216T200000
DTSTAMP:20241118T163410Z
SUMMARY:Warbirds Party Room
DESCRIPTION:No Charge
LOCATION:
URL:
END:VEVENT
END:VCALENDAR