BEGIN:VCALENDAR
VERSION:2.0
PRODID:-//DP Pro Event Calendar//3.0.5//EN
BEGIN:VEVENT
UID:992494b7-308a-44f9-a263-052c8204ec34
DTSTART;TZID=America/Chicago:20241215T154500
DTEND;TZID=America/Chicago:20241215T164500
DTSTAMP:20241122T170503Z
SUMMARY:Dannenhauer Birthday VIP
DESCRIPTION:4:45-5:45pm Party Room
LOCATION:
URL:
END:VEVENT
END:VCALENDAR