BEGIN:VCALENDAR
VERSION:2.0
PRODID:-//DP Pro Event Calendar//3.0.5//EN
BEGIN:VEVENT
UID:132b75bb-41f3-492f-bd7a-50620ca8bdb2
DTSTART;TZID=America/Chicago:20241215T153000
DTEND;TZID=America/Chicago:20241215T163000
DTSTAMP:20241112T180916Z
SUMMARY:Remi Terpolilli Birthday
DESCRIPTION:Basic Party\r \n Party Room 3:30-4:30p
LOCATION:
URL:
END:VEVENT
END:VCALENDAR