BEGIN:VCALENDAR
VERSION:2.0
PRODID:-//DP Pro Event Calendar//3.0.5//EN
BEGIN:VEVENT
UID:d2740dfc-b252-4bfa-997f-75add5a66ecd
DTSTART;TZID=America/Chicago:20241214T124500
DTEND;TZID=America/Chicago:20241214T141500
DTSTAMP:20241125T122048Z
SUMMARY:Isabella Misek Birthday
DESCRIPTION:Basic Party\r \n Party Room 11:45-12:45p
LOCATION:
URL:
END:VEVENT
END:VCALENDAR