BEGIN:VCALENDAR
VERSION:2.0
PRODID:-//DP Pro Event Calendar//3.0.5//EN
BEGIN:VEVENT
UID:744a1d7c-8ae9-4044-8cbe-eb840070bf37
DTSTART;TZID=America/Chicago:20241208T140000
DTEND;TZID=America/Chicago:20241208T163000
DTSTAMP:20241122T113558Z
SUMMARY:Mark Gregory - Locker Room 3
DESCRIPTION:Locker Room 3 2-4:30pm $40\r \n Group will skate - they will all pay themselves up front.\r \n 1 Table into the locker room.
LOCATION:
URL:
END:VEVENT
END:VCALENDAR