BEGIN:VCALENDAR
VERSION:2.0
PRODID:-//DP Pro Event Calendar//3.0.5//EN
BEGIN:VEVENT
UID:0fcc9a98-f617-43f6-9afa-245e465ea13f
DTSTART;TZID=America/Chicago:20241208T140000
DTEND;TZID=America/Chicago:20241208T153000
DTSTAMP:20241119T165352Z
SUMMARY:Penelope Huffman Birthday
DESCRIPTION:Standard Party\r \n Party Room 1-2p
LOCATION:
URL:
END:VEVENT
END:VCALENDAR