BEGIN:VCALENDAR
VERSION:2.0
PRODID:-//DP Pro Event Calendar//3.0.5//EN
BEGIN:VEVENT
UID:b0c4d4f7-822f-4553-bf26-5e94f074d5ca
DTSTART;TZID=America/Chicago:20241208T140000
DTEND;TZID=America/Chicago:20241208T153000
DTSTAMP:20241115T164030Z
SUMMARY:Macie Geis Birthday
DESCRIPTION:Basic Party\r \n Party Room 3:30-4:30p
LOCATION:
URL:
END:VEVENT
END:VCALENDAR