BEGIN:VCALENDAR
VERSION:2.0
PRODID:-//DP Pro Event Calendar//3.0.5//EN
BEGIN:VEVENT
UID:673030c9-d0e8-45ec-af7a-0366b889b507
DTSTART;TZID=America/Chicago:20241207T124500
DTEND;TZID=America/Chicago:20241207T141500
DTSTAMP:20241115T153125Z
SUMMARY:Claire Lawson Birthday
DESCRIPTION:Party Room 2:15-3:15p
LOCATION:
URL:
END:VEVENT
END:VCALENDAR