BEGIN:VCALENDAR
VERSION:2.0
PRODID:-//DP Pro Event Calendar//3.0.5//EN
BEGIN:VEVENT
UID:7080bfab-4dde-47ce-a797-b9fd99fb1e0e
DTSTART;TZID=America/Chicago:20241201T093000
DTEND;TZID=America/Chicago:20241201T110000
DTSTAMP:20241126T135625Z
SUMMARY:Adam Mann Party Room
DESCRIPTION:
LOCATION:
URL:
END:VEVENT
END:VCALENDAR