BEGIN:VCALENDAR
VERSION:2.0
PRODID:-//DP Pro Event Calendar//3.0.5//EN
BEGIN:VEVENT
UID:8f66bf49-1dc3-4cff-8012-585e76637602
DTSTART;TZID=America/Chicago:20241130T124500
DTEND;TZID=America/Chicago:20241130T141500
DTSTAMP:20241113T144124Z
SUMMARY:Sawyer Frain Birthday
DESCRIPTION:Basic Party\r \n Party Room 11:45-12:45
LOCATION:
URL:
END:VEVENT
END:VCALENDAR