BEGIN:VCALENDAR
VERSION:2.0
PRODID:-//DP Pro Event Calendar//3.0.5//EN
BEGIN:VEVENT
UID:dafee994-19e9-4da6-a71a-e2e6e4490987
DTSTART;TZID=America/Chicago:20241130T124500
DTEND;TZID=America/Chicago:20241130T141500
DTSTAMP:20241112T103459Z
SUMMARY:Charlie Eaton Birthday
DESCRIPTION:Standard Party\r \n Party Room 2:15-3:15p
LOCATION:
URL:
END:VEVENT
END:VCALENDAR