BEGIN:VCALENDAR
VERSION:2.0
PRODID:-//DP Pro Event Calendar//3.0.5//EN
BEGIN:VEVENT
UID:5e805faa-9d43-4c69-9261-a6dd311b8c13
DTSTART;TZID=America/Chicago:20241124T140000
DTEND;TZID=America/Chicago:20241124T153000
DTSTAMP:20241108T170105Z
SUMMARY:Sawyer Johnson Birthday
DESCRIPTION:Standard Party\r \n Party Room 1-2p
LOCATION:
URL:
END:VEVENT
END:VCALENDAR