BEGIN:VCALENDAR
VERSION:2.0
PRODID:-//DP Pro Event Calendar//3.0.5//EN
BEGIN:VEVENT
UID:cb809dff-cc7a-4bc2-97f0-32bc571cb914
DTSTART;TZID=America/Chicago:20241123T124500
DTEND;TZID=America/Chicago:20241123T141500
DTSTAMP:20241111T162449Z
SUMMARY:Lilly Sperry Birthday
DESCRIPTION:Basic Party\r \n Party Room 11:45-12:45p
LOCATION:
URL:
END:VEVENT
END:VCALENDAR