BEGIN:VCALENDAR
VERSION:2.0
PRODID:-//DP Pro Event Calendar//3.0.5//EN
BEGIN:VEVENT
UID:7bbfe025-7269-4060-846a-e2c7f1d7569e
DTSTART;TZID=America/Chicago:20241117T140000
DTEND;TZID=America/Chicago:20241117T153000
DTSTAMP:20241108T112818Z
SUMMARY:Hannah Hughes
DESCRIPTION:Party Room 3:30-4:30\r \n Basic Party
LOCATION:
URL:
END:VEVENT
END:VCALENDAR