BEGIN:VCALENDAR
VERSION:2.0
PRODID:-//DP Pro Event Calendar//3.0.5//EN
BEGIN:VEVENT
UID:2a2bd7db-5ce6-48da-baeb-eea09eb709f1
DTSTART;TZID=America/Chicago:20241011T180000
DTEND;TZID=America/Chicago:20241011T193000
DTSTAMP:20240904T161342Z
SUMMARY:Anthony Muhr Birthday
DESCRIPTION:Basic Party\r \n Party Room 5-6p
LOCATION:
URL:
END:VEVENT
END:VCALENDAR