BEGIN:VCALENDAR
VERSION:2.0
PRODID:-//DP Pro Event Calendar//3.0.5//EN
BEGIN:VEVENT
UID:60cb20e6-ed48-404b-9948-87c560d3fbf6
DTSTART;TZID=America/Chicago:20241005T124500
DTEND;TZID=America/Chicago:20241005T141500
DTSTAMP:20240913T142521Z
SUMMARY:Willow Maese Birthday Party
DESCRIPTION:Standard Party\r \n Party Room 2:15-3:15
LOCATION:
URL:
END:VEVENT
END:VCALENDAR