BEGIN:VCALENDAR
VERSION:2.0
PRODID:-//DP Pro Event Calendar//3.0.5//EN
BEGIN:VEVENT
UID:b8e5ee94-1e00-4756-8665-5449b400dd4b
DTSTART;TZID=America/Chicago:20240928T124500
DTEND;TZID=America/Chicago:20240928T141500
DTSTAMP:20240926T120632Z
SUMMARY:Acaisia & Hailey Eggleston Birthdays
DESCRIPTION:Locker Room 4 12:15-3:15p\r \n Basic Party
LOCATION:
URL:
END:VEVENT
END:VCALENDAR