BEGIN:VCALENDAR
VERSION:2.0
PRODID:-//DP Pro Event Calendar//3.0.5//EN
BEGIN:VEVENT
UID:f72e413d-1e53-4c92-bab7-96a859ea1f8c
DTSTART;TZID=America/Chicago:20240921T124500
DTEND;TZID=America/Chicago:20240921T141500
DTSTAMP:20240916T172142Z
SUMMARY:Laronn Tyson Birthday
DESCRIPTION:Basic Party\r \n Party Room 2:15-3:15p
LOCATION:
URL:
END:VEVENT
END:VCALENDAR