BEGIN:VCALENDAR
VERSION:2.0
PRODID:-//DP Pro Event Calendar//3.0.5//EN
BEGIN:VEVENT
UID:c0cbc232-cbbd-42e0-89fa-bc1540304ff5
DTSTART;TZID=America/Chicago:20231220T120000
DTEND;TZID=America/Chicago:20231220T150000
DTSTAMP:20231128T160207Z
SUMMARY:Eleanor Spatz Birthday
DESCRIPTION:Party Room 12-2\r \n Standard Party - Has Certificate
LOCATION:
URL:
END:VEVENT
END:VCALENDAR