BEGIN:VCALENDAR
VERSION:2.0
PRODID:-//DP Pro Event Calendar//3.0.5//EN
BEGIN:VEVENT
UID:cbe7e5ba-697f-4363-b545-e45faae12ba9
DTSTART;TZID=America/Chicago:20230709T090000
DTEND;TZID=America/Chicago:20230709T134500
DTSTAMP:20230627T164439Z
SUMMARY:Hot as Hell 2023
DESCRIPTION:
LOCATION:
URL:
END:VEVENT
END:VCALENDAR