BEGIN:VCALENDAR
VERSION:2.0
PRODID:-//DP Pro Event Calendar//3.0.5//EN
BEGIN:VEVENT
UID:02ab80ba-6cf5-44c6-bb2c-d7b02e1dee41
DTSTART;TZID=America/Chicago:20230528T154500
DTEND;TZID=America/Chicago:20230528T203000
DTSTAMP:20230314T182526Z
SUMMARY:Harahill 3v3
DESCRIPTION:
LOCATION:
URL:
END:VEVENT
END:VCALENDAR