BEGIN:VCALENDAR
VERSION:2.0
PRODID:-//DP Pro Event Calendar//3.0.5//EN
BEGIN:VEVENT
UID:8b28c736-d19e-4219-bb39-d090a12fdd9a
DTSTART;TZID=America/Chicago:20230408T113000
DTEND;TZID=America/Chicago:20230408T123000
DTSTAMP:20230315T151344Z
SUMMARY:Aliah Brandt VIP Birthday
DESCRIPTION:VIP Party - Party Room  11:30-1:30p
LOCATION:
URL:
END:VEVENT
END:VCALENDAR