BEGIN:VCALENDAR
VERSION:2.0
PRODID:-//DP Pro Event Calendar//3.0.5//EN
BEGIN:VEVENT
UID:78d3939d-1cb7-4cec-82c2-5b903f756375
DTSTART;TZID=America/Chicago:20230406T174500
DTEND;TZID=America/Chicago:20230406T184500
DTSTAMP:20230314T150030Z
SUMMARY:Zelda Donahoe VIP Birthday
DESCRIPTION:Party Room 5:30-8pm\r \n 50 skaters
LOCATION:
URL:
END:VEVENT
END:VCALENDAR