BEGIN:VCALENDAR
VERSION:2.0
PRODID:-//DP Pro Event Calendar//3.0.5//EN
BEGIN:VEVENT
UID:93867744-33aa-4713-9c46-334d4e41cdea
DTSTART;TZID=America/Chicago:20230405T194500
DTEND;TZID=America/Chicago:20230405T231500
DTSTAMP:20230314T145253Z
SUMMARY:Hockey Finder Wednesday 2023 Spring
DESCRIPTION:
LOCATION:
URL:
END:VEVENT
END:VCALENDAR