BEGIN:VCALENDAR
VERSION:2.0
PRODID:-//DP Pro Event Calendar//3.0.5//EN
BEGIN:VEVENT
UID:b1104451-2741-4b03-b551-0a4ad88de2a4
DTSTART;TZID=America/Chicago:20230402T180000
DTEND;TZID=America/Chicago:20230402T213000
DTSTAMP:20221005T132308Z
SUMMARY:MCHL 23-23 Season - This day only
DESCRIPTION:
LOCATION:
URL:
END:VEVENT
END:VCALENDAR