BEGIN:VCALENDAR
VERSION:2.0
PRODID:-//DP Pro Event Calendar//3.0.5//EN
BEGIN:VEVENT
UID:a91be3e1-3325-4f90-8b72-8669fe4fabed
DTSTART;TZID=America/Chicago:20230401T143000
DTEND;TZID=America/Chicago:20230401T164500
DTSTAMP:20221005T132347Z
SUMMARY:MCHL 23-23 Season - This day only
DESCRIPTION:
LOCATION:
URL:
END:VEVENT
END:VCALENDAR