BEGIN:VCALENDAR
VERSION:2.0
PRODID:-//DP Pro Event Calendar//3.0.5//EN
BEGIN:VEVENT
UID:c2237a8d-a13a-41e4-a16d-fd58f7c0cfd9
DTSTART;TZID=America/Chicago:20230122T180000
DTEND;TZID=America/Chicago:20230122T201500
DTSTAMP:20221214T172905Z
SUMMARY:OHC PW v. Opponent
DESCRIPTION:
LOCATION:
URL:
END:VEVENT
END:VCALENDAR