BEGIN:VCALENDAR
VERSION:2.0
PRODID:-//DP Pro Event Calendar//3.0.5//EN
BEGIN:VEVENT
UID:a6922e23-80c6-4654-ac5d-d63058aecdb0
DTSTART;TZID=America/Chicago:20230121T143000
DTEND;TZID=America/Chicago:20230121T163000
DTSTAMP:20230117T142457Z
SUMMARY:Omaha Lancers
DESCRIPTION:Clean after 2nd
LOCATION:
URL:
END:VEVENT
END:VCALENDAR