BEGIN:VCALENDAR
VERSION:2.0
PRODID:-//DP Pro Event Calendar//3.0.5//EN
BEGIN:VEVENT
UID:6e066dcd-d04a-404d-8c60-a0b6164df0ee
DTSTART;TZID=America/Chicago:20230110T201500
DTEND;TZID=America/Chicago:20230110T223000
DTSTAMP:20221129T143620Z
SUMMARY:Hockey Finder Tuesday 2023 Winter
DESCRIPTION:
LOCATION:
URL:
END:VEVENT
END:VCALENDAR