BEGIN:VCALENDAR
VERSION:2.0
PRODID:-//DP Pro Event Calendar//3.0.5//EN
BEGIN:VEVENT
UID:9a766d4f-7246-412b-95ed-74d07763ab05
DTSTART;TZID=America/Chicago:20221209T130000
DTEND;TZID=America/Chicago:20221209T213000
DTSTAMP:20221018T142846Z
SUMMARY:Thurber Tournament 2022
DESCRIPTION:
LOCATION:
URL:
END:VEVENT
END:VCALENDAR