BEGIN:VCALENDAR
VERSION:2.0
PRODID:-//DP Pro Event Calendar//3.0.5//EN
BEGIN:VEVENT
UID:efd73f42-7251-4bf1-86bd-77776a5365e9
DTSTART;TZID=America/Chicago:20221029T143000
DTEND;TZID=America/Chicago:20221029T164500
DTSTAMP:20220919T122419Z
SUMMARY:OHC Squirt Red v. KC
DESCRIPTION:
LOCATION:
URL:
END:VEVENT
END:VCALENDAR