BEGIN:VCALENDAR
VERSION:2.0
PRODID:-//DP Pro Event Calendar//3.0.5//EN
BEGIN:VEVENT
UID:b6068529-13c8-4267-9574-7385c184ad00
DTSTART;TZID=America/Chicago:20221022T124500
DTEND;TZID=America/Chicago:20221022T141500
DTSTAMP:20221003T171744Z
SUMMARY:Kassandra Nelson Birthday
DESCRIPTION:Basic Party\r \n Party Room 12:30-1:30p Before
LOCATION:
URL:
END:VEVENT
END:VCALENDAR