BEGIN:VCALENDAR
VERSION:2.0
PRODID:-//DP Pro Event Calendar//3.0.5//EN
BEGIN:VEVENT
UID:d072908c-ddbf-494d-9abf-f78a91216d67
DTSTART;TZID=America/Chicago:20220711T204500
DTEND;TZID=America/Chicago:20220711T214500
DTSTAMP:20220707T141801Z
SUMMARY:Menace Monday - 7/11-8/29 8:45pm
DESCRIPTION:
LOCATION:
URL:
END:VEVENT
END:VCALENDAR