BEGIN:VCALENDAR
VERSION:2.0
PRODID:-//DP Pro Event Calendar//3.0.5//EN
BEGIN:VEVENT
UID:edc28390-7903-498d-ad51-587a001672d1
DTSTART;TZID=America/Chicago:20220707T120000
DTEND;TZID=America/Chicago:20220707T140000
DTSTAMP:20220328T135009Z
SUMMARY:Ralston Little Rams Outing
DESCRIPTION:cheyenne.herrera@ralstonschools.org
LOCATION:
URL:
END:VEVENT
END:VCALENDAR