BEGIN:VCALENDAR
VERSION:2.0
PRODID:-//DP Pro Event Calendar//3.0.5//EN
BEGIN:VEVENT
UID:cbffbadf-5f57-4aa1-8525-020e28d73215
DTSTART;TZID=America/Chicago:20220405T201500
DTEND;TZID=America/Chicago:20220405T223000
DTSTAMP:20220401T170607Z
SUMMARY:Hockey Finder Spring 2022 Tuesday
DESCRIPTION:
LOCATION:
URL:
END:VEVENT
END:VCALENDAR