BEGIN:VCALENDAR
VERSION:2.0
PRODID:-//DP Pro Event Calendar//3.0.5//EN
BEGIN:VEVENT
UID:1ca26dda-b1f7-4c6a-a67c-b0a18aa4c95e
DTSTART;TZID=America/Chicago:20220213T140000
DTEND;TZID=America/Chicago:20220213T153000
DTSTAMP:20211209T105622Z
SUMMARY:Isabella Novacek Birthday
DESCRIPTION:Basic Party\r \n Party Room 1-2
LOCATION:
URL:
END:VEVENT
END:VCALENDAR